<?xml version="1.0" encoding="UTF-8" standalone="no"?>
<metadata xml:lang="en">
<Esri>
<CreaDate Sync="TRUE">20180102</CreaDate>
<CreaTime Sync="TRUE">16171000</CreaTime>
<ArcGISFormat Sync="TRUE">1.0</ArcGISFormat>
<ArcGISstyle Sync="TRUE">FGDC CSDGM Metadata</ArcGISstyle>
<SyncOnce>FALSE</SyncOnce>
<DataProperties>
<itemProps>
<itemName Sync="TRUE">MurfreesboroTN_LCAllClass_2021</itemName>
<itemLocation>
<linkage Sync="TRUE">file://\\gis\gisdata\StreetDept\MurfreesboroTN_TreeCanopyAssessment_2022\TreeCanopyAssessment2022.gdb</linkage>
<protocol Sync="TRUE">Local Area Network</protocol>
</itemLocation>
<nativeExtBox>
<westBL Sync="TRUE">543345.199044</westBL>
<eastBL Sync="TRUE">560983.399044</eastBL>
<southBL Sync="TRUE">3957558.783452</southBL>
<northBL Sync="TRUE">3979750.383452</northBL>
<exTypeCode Sync="TRUE">1</exTypeCode>
</nativeExtBox>
<imsContentType Sync="TRUE">002</imsContentType>
</itemProps>
<coordRef>
<type Sync="TRUE">Projected</type>
<geogcsn Sync="TRUE">GCS_North_American_1983</geogcsn>
<csUnits Sync="TRUE">Linear Unit: Meter (1.000000)</csUnits>
<projcsn Sync="TRUE">NAD_1983_UTM_Zone_16N</projcsn>
<peXml Sync="TRUE">&lt;ProjectedCoordinateSystem xsi:type='typens:ProjectedCoordinateSystem' xmlns:xsi='http://www.w3.org/2001/XMLSchema-instance' xmlns:xs='http://www.w3.org/2001/XMLSchema' xmlns:typens='http://www.esri.com/schemas/ArcGIS/10.8'&gt;&lt;WKT&gt;PROJCS[&amp;quot;NAD_1983_UTM_Zone_16N&amp;quot;,GEOGCS[&amp;quot;GCS_North_American_1983&amp;quot;,DATUM[&amp;quot;D_North_American_1983&amp;quot;,SPHEROID[&amp;quot;GRS_1980&amp;quot;,6378137.0,298.257222101]],PRIMEM[&amp;quot;Greenwich&amp;quot;,0.0],UNIT[&amp;quot;Degree&amp;quot;,0.0174532925199433]],PROJECTION[&amp;quot;Transverse_Mercator&amp;quot;],PARAMETER[&amp;quot;False_Easting&amp;quot;,500000.0],PARAMETER[&amp;quot;False_Northing&amp;quot;,0.0],PARAMETER[&amp;quot;Central_Meridian&amp;quot;,-87.0],PARAMETER[&amp;quot;Scale_Factor&amp;quot;,0.9996],PARAMETER[&amp;quot;Latitude_Of_Origin&amp;quot;,0.0],UNIT[&amp;quot;Meter&amp;quot;,1.0],AUTHORITY[&amp;quot;EPSG&amp;quot;,26916]]&lt;/WKT&gt;&lt;XOrigin&gt;-5120900&lt;/XOrigin&gt;&lt;YOrigin&gt;-9998100&lt;/YOrigin&gt;&lt;XYScale&gt;450445547.3910538&lt;/XYScale&gt;&lt;ZOrigin&gt;-100000&lt;/ZOrigin&gt;&lt;ZScale&gt;10000&lt;/ZScale&gt;&lt;MOrigin&gt;-100000&lt;/MOrigin&gt;&lt;MScale&gt;10000&lt;/MScale&gt;&lt;XYTolerance&gt;0.001&lt;/XYTolerance&gt;&lt;ZTolerance&gt;0.001&lt;/ZTolerance&gt;&lt;MTolerance&gt;0.001&lt;/MTolerance&gt;&lt;HighPrecision&gt;true&lt;/HighPrecision&gt;&lt;WKID&gt;26916&lt;/WKID&gt;&lt;LatestWKID&gt;26916&lt;/LatestWKID&gt;&lt;/ProjectedCoordinateSystem&gt;</peXml>
</coordRef>
<RasterProperties>
<General>
<PixelDepth Sync="TRUE">8</PixelDepth>
<HasColormap Sync="TRUE">FALSE</HasColormap>
<CompressionType Sync="TRUE">LZW</CompressionType>
<NumBands Sync="TRUE">1</NumBands>
<Format Sync="TRUE">TIFF</Format>
<HasPyramids Sync="TRUE">TRUE</HasPyramids>
<SourceType Sync="TRUE">continuous</SourceType>
<PixelType Sync="TRUE">signed integer</PixelType>
<NoDataValue Sync="TRUE">-128</NoDataValue>
</General>
</RasterProperties>
</DataProperties>
<SyncDate>20220718</SyncDate>
<SyncTime>11231200</SyncTime>
<ModDate>20220718</ModDate>
<ModTime>11231200</ModTime>
<scaleRange>
<minScale>150000000</minScale>
<maxScale>5000</maxScale>
</scaleRange>
<ArcGISProfile>FGDC</ArcGISProfile>
</Esri>
<mdHrLv>
<ScopeCd value="005"/>
</mdHrLv>
<dataIdInfo>
<idPurp>To assess urban tree canopy in Murfreesboro, Tennessee, and to maintain planning activities.</idPurp>
<idAbs>These data represent detailed land cover in Murfreesboro, Tennessee. The data were derived using remote sensing technologies on aerial imagery from the National Agriculture Imagery Program (NAIP), flown in 2021.</idAbs>
<idCredit>Created by PlanIT Geo, Inc., Arvada, Colorado. For use by City of Murfreesboro.</idCredit>
<idCitation>
<resTitle Sync="TRUE">MurfreesboroTN_LCAllClass_2021</resTitle>
<presForm>
<PresFormCd Sync="TRUE" value="011"/>
</presForm>
</idCitation>
<searchKeys>
<keyword>Urban Tree Canopy Assessment</keyword>
<keyword>Tree Canopy</keyword>
<keyword>land cover</keyword>
<keyword>UTC</keyword>
<keyword>Land Cover</keyword>
<keyword>Murfreesboro</keyword>
<keyword>Tennessee</keyword>
</searchKeys>
<resConst>
<LegConsts>
<useLimit>The suitability of this dataset for any other uses beyond those specified in the Purpose section of this document is not guaranteed, and the user assumes all risk for such uses. City of Murfreesboro assumes no legal responsibility for works derived from this dataset.</useLimit>
</LegConsts>
<Consts>
<useLimit>The suitability of this dataset for any other uses beyond those specified in the Purpose section of this document is not guaranteed, and the user assumes all risk for such uses. City of Murfreesboro assumes no legal responsibility for works derived from this dataset.</useLimit>
</Consts>
</resConst>
<envirDesc Sync="TRUE"> Version 6.2 (Build 9200) ; Esri ArcGIS 10.8.1.14362</envirDesc>
<dataLang>
<languageCode Sync="TRUE" value="eng"/>
<countryCode Sync="TRUE" value="USA"/>
</dataLang>
<spatRpType>
<SpatRepTypCd Sync="TRUE" value="002"/>
</spatRpType>
<dataExt>
<geoEle>
<GeoBndBox esriExtentType="search">
<exTypeCode Sync="TRUE">1</exTypeCode>
<westBL Sync="TRUE">-86.520512</westBL>
<eastBL Sync="TRUE">-86.323710</eastBL>
<northBL Sync="TRUE">35.961188</northBL>
<southBL Sync="TRUE">35.760176</southBL>
</GeoBndBox>
</geoEle>
</dataExt>
</dataIdInfo>
<eainfo>
<detailed Name="VAT_MurfreesboroTN_LCAllClass_2021">
<enttyp>
<enttypl Sync="TRUE">VAT_MurfreesboroTN_LCAllClass_2021</enttypl>
<enttypt Sync="TRUE">Table</enttypt>
<enttypc Sync="TRUE">10</enttypc>
</enttyp>
<attr>
<attrlabl Sync="TRUE">OBJECTID</attrlabl>
<attalias Sync="TRUE">OBJECTID</attalias>
<attrtype Sync="TRUE">OID</attrtype>
<attwidth Sync="TRUE">4</attwidth>
<atprecis Sync="TRUE">0</atprecis>
<attscale Sync="TRUE">0</attscale>
<attrdef Sync="TRUE">Internal feature number.</attrdef>
<attrdefs Sync="TRUE">Esri</attrdefs>
<attrdomv>
<udom Sync="TRUE">Sequential unique whole numbers that are automatically generated.</udom>
</attrdomv>
</attr>
<attr>
<attrlabl>Value</attrlabl>
<attrdef>Detailed land cover classifications: 1 = Tree Canopy, 2 = Non-Canopy Vegetation, 19 = Tree Canopy Over Impervious, 21 = Building, 22 = Road, 23 = Parking Lot, 24 = Sidewalk, 29 = Other Impervious, 30 = Water, 50 = Soil and Dry Vegetation </attrdef>
<attalias Sync="TRUE">Value</attalias>
<attrtype Sync="TRUE">Integer</attrtype>
<attwidth Sync="TRUE">4</attwidth>
<atprecis Sync="TRUE">0</atprecis>
<attscale Sync="TRUE">0</attscale>
</attr>
<attr>
<attrlabl>Count</attrlabl>
<attrdef>The number of attributes associated with each class.</attrdef>
<attalias Sync="TRUE">Count</attalias>
<attrtype Sync="TRUE">Double</attrtype>
<attwidth Sync="TRUE">8</attwidth>
<atprecis Sync="TRUE">0</atprecis>
<attscale Sync="TRUE">0</attscale>
</attr>
</detailed>
</eainfo>
<mdLang>
<languageCode Sync="TRUE" value="eng"/>
<countryCode Sync="TRUE" value="USA"/>
</mdLang>
<distInfo>
<distFormat>
<formatName Sync="TRUE">File Geodatabase Raster Dataset</formatName>
</distFormat>
</distInfo>
<mdHrLvName Sync="TRUE">dataset</mdHrLvName>
<refSysInfo>
<RefSystem>
<refSysID>
<identCode Sync="TRUE" code="26916"/>
<idCodeSpace Sync="TRUE">EPSG</idCodeSpace>
<idVersion Sync="TRUE">6.13(3.0.1)</idVersion>
</refSysID>
</RefSystem>
</refSysInfo>
<spdoinfo>
<rastinfo>
<rasttype Sync="TRUE">Pixel</rasttype>
<rowcount Sync="TRUE">36986</rowcount>
<colcount Sync="TRUE">29397</colcount>
<rastxsz Sync="TRUE">0.600000</rastxsz>
<rastysz Sync="TRUE">0.600000</rastysz>
<rastbpp Sync="TRUE">8</rastbpp>
<vrtcount Sync="TRUE">1</vrtcount>
<rastorig Sync="TRUE">Upper Left</rastorig>
<rastcmap Sync="TRUE">FALSE</rastcmap>
<rastcomp Sync="TRUE">LZ77</rastcomp>
<rastband Sync="TRUE">1</rastband>
<rastdtyp Sync="TRUE">pixel codes</rastdtyp>
<rastifor Sync="TRUE">FGDBR</rastifor>
<rastplyr Sync="TRUE">TRUE</rastplyr>
</rastinfo>
</spdoinfo>
<spref>
<horizsys>
<planar>
<planci>
<plance Sync="TRUE">row and column</plance>
<coordrep>
<absres Sync="TRUE">0.600000</absres>
<ordres Sync="TRUE">0.600000</ordres>
</coordrep>
</planci>
</planar>
</horizsys>
</spref>
<mdDateSt Sync="TRUE">20220718</mdDateSt>
<spatRepInfo>
<Georect>
<cellGeo>
<CellGeoCd Sync="TRUE" value="002"/>
</cellGeo>
<numDims Sync="TRUE">2</numDims>
<tranParaAv Sync="TRUE">1</tranParaAv>
<chkPtAv Sync="TRUE">0</chkPtAv>
<cornerPts>
<pos Sync="TRUE">543345.199044 3957558.783452</pos>
</cornerPts>
<cornerPts>
<pos Sync="TRUE">543345.199044 3979750.383452</pos>
</cornerPts>
<cornerPts>
<pos Sync="TRUE">560983.399044 3979750.383452</pos>
</cornerPts>
<cornerPts>
<pos Sync="TRUE">560983.399044 3957558.783452</pos>
</cornerPts>
<centerPt>
<pos Sync="TRUE">552164.299044 3968654.583452</pos>
</centerPt>
<axisDimension type="002">
<dimSize Sync="TRUE">29397</dimSize>
<dimResol>
<value Sync="TRUE" uom="m">0.600000</value>
</dimResol>
</axisDimension>
<axisDimension type="001">
<dimSize Sync="TRUE">36986</dimSize>
<dimResol>
<value Sync="TRUE" uom="m">0.600000</value>
</dimResol>
</axisDimension>
<ptInPixel>
<PixOrientCd Sync="TRUE" value="001"/>
</ptInPixel>
</Georect>
</spatRepInfo>
<contInfo>
<ImgDesc>
<contentTyp>
<ContentTypCd Sync="TRUE" value="001"/>
</contentTyp>
<covDim>
<Band>
<dimDescrp Sync="TRUE">Band_1</dimDescrp>
<maxVal Sync="TRUE">50.000000</maxVal>
<minVal Sync="TRUE">1.000000</minVal>
<bitsPerVal Sync="TRUE">8</bitsPerVal>
<valUnit>
<UOM type="length"/>
</valUnit>
</Band>
</covDim>
</ImgDesc>
</contInfo>
</metadata>
