{
 "currentVersion": 11.3,
 "serviceDescription": "These data represent detailed land cover in Murfreesboro, Tennessee. The data were derived using remote sensing technologies on aerial imagery from the National Agriculture Imagery Program (NAIP), flown in 2021.",
 "name": "Parks_Rec/MurfreesboroTN_LCAllClass_2021",
 "description": "These data represent detailed land cover in Murfreesboro, Tennessee. The data were derived using remote sensing technologies on aerial imagery from the National Agriculture Imagery Program (NAIP), flown in 2021.",
 "extent": {
  "xmin": 543345.1990441354,
  "ymin": 3957558.7834482393,
  "xmax": 560983.3990434511,
  "ymax": 3979750.383451685,
  "spatialReference": {
   "wkid": 26916,
   "latestWkid": 26916
  }
 },
 "initialExtent": {
  "xmin": 543345.1990441354,
  "ymin": 3957558.7834482393,
  "xmax": 560983.3990434511,
  "ymax": 3979750.383451685,
  "spatialReference": {
   "wkid": 26916,
   "latestWkid": 26916
  }
 },
 "fullExtent": {
  "xmin": 543345.1990441354,
  "ymin": 3957558.7834482393,
  "xmax": 560983.3990434511,
  "ymax": 3979750.383451685,
  "spatialReference": {
   "wkid": 26916,
   "latestWkid": 26916
  }
 },
 "sortableFields": "",
 "bandCount": 1,
 "pixelType": "S8",
 "minValues": [
  1
 ],
 "maxValues": [
  50
 ],
 "meanValues": [
  13.999450274742014
 ],
 "stdvValues": [
  11.520627783182876
 ],
 "hasMultidimensions": false,
 "pixelSizeX": 0.5999999999767209,
 "pixelSizeY": 0.6000000000931575,
 "meanPixelSize": 0.6000000000349393,
 "datasetFormat": "SDR",
 "uncompressedSize": 1087277442,
 "blockWidth": 128,
 "blockHeight": 128,
 "compressionType": "LZ77",
 "bandNames": [
  "Band_1"
 ],
 "allowCopy": true,
 "allowAnalysis": true,
 "itemAccess": false,
 "inspectionCapabilities": "",
 "minPixelSize": 0,
 "maxPixelSize": 0,
 "copyrightText": "Created by PlanIT Geo, Inc., Arvada, Colorado. For use by City of Murfreesboro.",
 "serviceDataType": "esriImageServiceDataTypeGeneric",
 "serviceSourceType": "esriImageServiceSourceTypeDataset",
 "objectIdField": "",
 "fields": [],
 "capabilities": "Mensuration,Image,Metadata",
 "defaultMosaicMethod": "Center",
 "allowedMosaicMethods": "",
 "sortField": "",
 "sortValue": null,
 "sortAscending": true,
 "mosaicOperator": "First",
 "defaultCompressionQuality": 75,
 "defaultResamplingMethod": "Bilinear",
 "maxImageHeight": 4100,
 "maxImageWidth": 15000,
 "allowRasterFunction": true,
 "rasterFunctionInfos": [
  {
   "name": "None",
   "description": "",
   "help": ""
  }
 ],
 "rasterTypeInfos": [
  {
   "name": "Raster Dataset",
   "description": "Supports all ArcGIS Raster Datasets",
   "help": ""
  }
 ],
 "mensurationCapabilities": "Basic",
 "hasHistograms": true,
 "hasColormap": false,
 "hasRasterAttributeTable": true,
 "minScale": 0,
 "maxScale": 0,
 "exportTilesAllowed": false,
 "supportsStatistics": false,
 "supportsAdvancedQueries": false,
 "editFieldsInfo": null,
 "ownershipBasedAccessControlForRasters": null,
 "allowComputeTiePoints": false,
 "useStandardizedQueries": true,
 "advancedQueryCapabilities": {
  "useStandardizedQueries": true,
  "supportsStatistics": false,
  "supportsOrderBy": false,
  "supportsDistinct": false,
  "supportsPagination": false
 },
 "spatialReference": {
  "wkid": 26916,
  "latestWkid": 26916
 },
 "resampling": false
}
