{
 "currentVersion": 11.3,
 "serviceDescription": "Surface/Multi_Directional_Hillshade__2018",
 "name": "Surface/Multi_Directional_Hillshade__2018",
 "description": "",
 "extent": {
  "xmin": 1758503,
  "ymin": 465378,
  "xmax": 1933503,
  "ymax": 645378,
  "spatialReference": {
   "wkid": 103152,
   "latestWkid": 6576
  }
 },
 "initialExtent": {
  "xmin": 1758503,
  "ymin": 465378,
  "xmax": 1933503,
  "ymax": 645378,
  "spatialReference": {
   "wkid": 103152,
   "latestWkid": 6576
  }
 },
 "fullExtent": {
  "xmin": 1758503,
  "ymin": 465378,
  "xmax": 1933503,
  "ymax": 645378,
  "spatialReference": {
   "wkid": 103152,
   "latestWkid": 6576
  }
 },
 "sortableFields": "",
 "bandCount": 1,
 "pixelType": "U8",
 "minValues": [
  1
 ],
 "maxValues": [
  238
 ],
 "meanValues": [
  154.9031213578325
 ],
 "stdvValues": [
  63.41926346288423
 ],
 "hasMultidimensions": false,
 "pixelSizeX": 2.5,
 "pixelSizeY": 2.5,
 "meanPixelSize": 0.7620015240030481,
 "datasetFormat": "SDR",
 "uncompressedSize": 5040000000,
 "blockWidth": 128,
 "blockHeight": 128,
 "compressionType": "NONE",
 "bandNames": [
  "Band_1"
 ],
 "allowCopy": true,
 "allowAnalysis": true,
 "itemAccess": false,
 "inspectionCapabilities": "",
 "minPixelSize": 0,
 "maxPixelSize": 0,
 "copyrightText": "",
 "serviceDataType": "esriImageServiceDataTypeGeneric",
 "serviceSourceType": "esriImageServiceSourceTypeDataset",
 "objectIdField": "",
 "fields": [],
 "capabilities": "Mensuration,Image,Metadata",
 "defaultMosaicMethod": "Center",
 "allowedMosaicMethods": "",
 "sortField": "",
 "sortValue": null,
 "sortAscending": true,
 "mosaicOperator": "First",
 "defaultCompressionQuality": 75,
 "defaultResamplingMethod": "Bilinear",
 "maxImageHeight": 4100,
 "maxImageWidth": 15000,
 "allowRasterFunction": true,
 "rasterFunctionInfos": [
  {
   "name": "None",
   "description": "",
   "help": ""
  }
 ],
 "rasterTypeInfos": [
  {
   "name": "Raster Dataset",
   "description": "Supports all ArcGIS Raster Datasets",
   "help": ""
  }
 ],
 "mensurationCapabilities": "Basic",
 "hasHistograms": true,
 "hasColormap": false,
 "hasRasterAttributeTable": false,
 "minScale": 0,
 "maxScale": 0,
 "exportTilesAllowed": false,
 "supportsStatistics": false,
 "supportsAdvancedQueries": false,
 "editFieldsInfo": null,
 "ownershipBasedAccessControlForRasters": null,
 "allowComputeTiePoints": false,
 "useStandardizedQueries": true,
 "advancedQueryCapabilities": {
  "useStandardizedQueries": true,
  "supportsStatistics": false,
  "supportsOrderBy": false,
  "supportsDistinct": false,
  "supportsPagination": false
 },
 "spatialReference": {
  "wkid": 103152,
  "latestWkid": 6576
 },
 "resampling": false
}
