View In:
ArcGIS JavaScript
ArcGIS Online Map Viewer
ArcGIS Earth
Service Description: These data represent detailed land cover in Murfreesboro, Tennessee. The data were derived using remote sensing technologies on aerial imagery from the National Agriculture Imagery Program (NAIP), flown in 2021.
Name: Parks_Rec/MurfreesboroTN_LCAllClass_2021
Description: These data represent detailed land cover in Murfreesboro, Tennessee. The data were derived using remote sensing technologies on aerial imagery from the National Agriculture Imagery Program (NAIP), flown in 2021.
Single Fused Map Cache: false
Extent:
XMin: 543345.1990441354
YMin: 3957558.7834482393
XMax: 560983.3990434511
YMax: 3979750.383451685
Spatial Reference: 26916
(26916)
LatestVCSWkid(0)
Initial Extent:
XMin: 543345.1990441354
YMin: 3957558.7834482393
XMax: 560983.3990434511
YMax: 3979750.383451685
Spatial Reference: 26916
(26916)
LatestVCSWkid(0)
Full Extent:
XMin: 543345.1990441354
YMin: 3957558.7834482393
XMax: 560983.3990434511
YMax: 3979750.383451685
Spatial Reference: 26916
(26916)
LatestVCSWkid(0)
Pixel Size X: 0.5999999999767209
Pixel Size Y: 0.6000000000931575
Band Count: 1
Pixel Type: S8
RasterFunction Infos: {"rasterFunctionInfos": [{
"name": "None",
"description": "",
"help": ""
}]}
Mensuration Capabilities: Basic
Inspection Capabilities:
Has Histograms: true
Has Colormap: false
Has Multi Dimensions : false
Rendering Rule:
Min Scale: 0
Max Scale: 0
Resampling: false
Copyright Text: Created by PlanIT Geo, Inc., Arvada, Colorado. For use by City of Murfreesboro.
Service Data Type: esriImageServiceDataTypeGeneric
Min Values: 1
Max Values: 50
Mean Values: 13.999450274742014
Standard Deviation Values: 11.520627783182876
Object ID Field:
Fields:
None
Default Mosaic Method: Center
Allowed Mosaic Methods:
SortField:
SortValue: null
Mosaic Operator: First
Default Compression Quality: 75
Default Resampling Method: Bilinear
Max Record Count: null
Max Image Height: 4100
Max Image Width: 15000
Max Download Image Count: null
Max Mosaic Image Count: null
Allow Raster Function: true
Allow Copy: true
Allow Analysis: true
Allow Compute TiePoints: false
Supports Statistics: false
Supports Advanced Queries: false
Use StandardizedQueries: true
Raster Type Infos:
Name: Raster Dataset
Description: Supports all ArcGIS Raster Datasets
Help:
Has Raster Attribute Table: true
Edit Fields Info: null
Ownership Based AccessControl For Rasters: null
Child Resources:
Info
Raster Attribute Table
Histograms
Statistics
Key Properties
Legend
Raster Function Infos
Supported Operations:
Export Image
Identify
Measure
Compute Histograms
Compute Statistics Histograms
Get Samples
Compute Class Statistics
Query Boundary
Compute Pixel Location
Compute Angles
Validate
Project