View In:
ArcGIS JavaScript
ArcGIS Online Map Viewer
ArcGIS Earth
Service Description: Surface/Multi_Directional_Hillshade__2018
Name: Surface/Multi_Directional_Hillshade__2018
Description:
Single Fused Map Cache: false
Extent:
XMin: 1758503.0
YMin: 465378.0
XMax: 1933503.0
YMax: 645378.0
Spatial Reference: 103152
(6576)
LatestVCSWkid(0)
Initial Extent:
XMin: 1758503.0
YMin: 465378.0
XMax: 1933503.0
YMax: 645378.0
Spatial Reference: 103152
(6576)
LatestVCSWkid(0)
Full Extent:
XMin: 1758503.0
YMin: 465378.0
XMax: 1933503.0
YMax: 645378.0
Spatial Reference: 103152
(6576)
LatestVCSWkid(0)
Pixel Size X: 2.5
Pixel Size Y: 2.5
Band Count: 1
Pixel Type: U8
RasterFunction Infos: {"rasterFunctionInfos": [{
"name": "None",
"description": "",
"help": ""
}]}
Mensuration Capabilities: Basic
Inspection Capabilities:
Has Histograms: true
Has Colormap: false
Has Multi Dimensions : false
Rendering Rule:
Min Scale: 0
Max Scale: 0
Resampling: false
Copyright Text:
Service Data Type: esriImageServiceDataTypeGeneric
Min Values: 1
Max Values: 238
Mean Values: 154.9031213578325
Standard Deviation Values: 63.41926346288423
Object ID Field:
Fields:
None
Default Mosaic Method: Center
Allowed Mosaic Methods:
SortField:
SortValue: null
Mosaic Operator: First
Default Compression Quality: 75
Default Resampling Method: Bilinear
Max Record Count: null
Max Image Height: 4100
Max Image Width: 15000
Max Download Image Count: null
Max Mosaic Image Count: null
Allow Raster Function: true
Allow Copy: true
Allow Analysis: true
Allow Compute TiePoints: false
Supports Statistics: false
Supports Advanced Queries: false
Use StandardizedQueries: true
Raster Type Infos:
Name: Raster Dataset
Description: Supports all ArcGIS Raster Datasets
Help:
Has Raster Attribute Table: false
Edit Fields Info: null
Ownership Based AccessControl For Rasters: null
Child Resources:
Info
Histograms
Statistics
Key Properties
Legend
Raster Function Infos
Supported Operations:
Export Image
Identify
Measure
Compute Histograms
Compute Statistics Histograms
Get Samples
Compute Class Statistics
Query Boundary
Compute Pixel Location
Compute Angles
Validate
Project